BEGIN:VCALENDAR
VERSION:2.0
PRODID:-//OneGov//onegov.event//
BEGIN:VEVENT
SUMMARY:Winterkonzert Jugendblasorchester Rontal
DTSTART:20251212T190000Z
DTEND:20251212T210000Z
DTSTAMP:20250916T130803Z
UID:winterkonzert-jugendblasorchester-rontal-2025-12-12@onegov.event
CATEGORIES:Music,Concert,Music School
DESCRIPTION:
LAST-MODIFIED:20250916T130803Z
LOCATION:Pfarreiheim\, Ebikon
URL:https://www.musikschule-rontal.ch/event/winterkonzert-jugendblasorches
 ter-rontal-2025-12-12
END:VEVENT
END:VCALENDAR
