BEGIN:VCALENDAR
VERSION:2.0
PRODID:-//OneGov//onegov.event//
BEGIN:VEVENT
SUMMARY:150 Jahre Musikschule Rontal
DTSTART:20161002T090000Z
DTEND:20161002T200000Z
DTSTAMP:20160929T122334Z
UID:150-jahre-musikschule-rontal-2016-10-02@onegov.event
CATEGORIES:Party
DESCRIPTION:Wir feiern das 150 jährige Bestehen.
LAST-MODIFIED:20160929T122334Z
LOCATION:Sportanlage
URL:https://www.musikschule-rontal.ch/event/150-jahre-musikschule-rontal-2
 016-10-02
END:VEVENT
END:VCALENDAR
